Workbook

Sheet GREEN FRAMEWORK
A1: MICROCREDENTIAL GREEN COMPETENCY FRAMEWORK
A3: MICROCREDENTIAL TO CERTIFY: | C3: To perform the role of Transnational WBL Organiser in VET ensuring environmental sustainability in various industrial contexts and undertaking actions to minimize harmful impacts of WBL mobilities on environment
A4: EQF LEVEL: | C4: 6
A5: Learning outcomes | C5: Organize mobility experiences with respect to sustainable practises in various professional contexts and minimizing environmental impact of WBL mobilities
A6: Duration (in hrs) | C6: 12 hours
A7: Notional workload (in hrs) | C7: 25 hours
A8: N. | B8: LEARNING AREA | C8: COMPETENCE UNIT DESCRIPTION | D8: KNOWLEDGE | E8: SKILLS | F8: ATTITUDES | G8: LEARNING OUTCOMES | H8: WEIGHT % | I8: DURATION in hours | J8: WORKLOAD in hours
A9: 1 | B9: The reference context | C9: It combines knowledge on the key concepts of sustainability and the ability to apply these concepts in the working and training context, also through a terminological glossary | D9: - International environmental regulations and standards - Basic concepts and terminology related to sustainability, including the Sustainable Development Goals (SDGs), the Circular Economy, and international and European environmental regulations | E9: - Apply references and examples from GreenComp when conducting own occupational role with reference to WBL/Mobility planning and organisation to identify a minimum level of access to relevant practical learning concerning environmental sustainability, carbon reduction and sustainable futures | F9: ‘Lead by example’ with regards to environmentally sustainable working practices in one's own role | G9: Identify and use the green reference frameworks Relate to green reference framework different proficiency levels for learners and workplaces | H9: 10 | I9: 1 | J9: 2,5
A10: 2 | B10: Planning WBL experiences | C10: It includes the knowledge and practical skills needed to plan WBL experiences incorporating sustainable practices applied in various industrial sectors | D10: Green Project-based Learning (PBL) opportunities available in workplaces (according to industry and sector) in sustainability challenges, such as reducing carbon footprints or improving waste management Case studies and examples from previous WBL and mobility placements as well as from wider best practice | E10: Support apprentices, trainees and other learners to define and specify SMART Green learning goals to be pursued during mobility / WBL experiences | F10: Positively advocate the need to fully embed Green mindsets and dimensions in the planning and implementation of WBL and mobility | G10: Organize and track internship experiences with respect to sustainable practises in various industrial sector | H10: 25 | I10: 3 | J10: 6
A11: 3 | B11: Implementing WBL experiences | C11: It includes the knowledge and practical skills to enhance sustainable practises in different industrial sectors and aligning WBL experiences with these practices. | D11: - Different professions, professional activities and the relevance of Green competences at the workplace. | E11: - Identify sustainable practical activities in various sectors and to raise awareness among employers of the importance of sustainability in the company. | F11: - Positive attitudes towards the adoption of sustainable practices. - Ensure that provision is made with companies/at the workplace for aligned Green learning experiences when hosting WBL placements | G11: Identify and promote sustainable activities in professional contexts, adapting to the needs of each sector. | H11: 25 | I11: 3 | J11: 6
A12: 4 | B12: Monitoring and assessment of WBL experiences | C12: It integrates knowledge and skills on environmental assessment processes with attitudes oriented towards sustainability and reducing the environmental impact of work activities | D12: Appropriate methods and techniques to establish baselines for learners and evaluate progress and distance travelled in relation to Green competencies accrued during WBL and mobility experiences | E12: - Evaluate with all concerned parties (learners, companies, VET colleagues) Green learning outcomes from WBL experiences and seek continuous improvement for future WBL and mobility learning experiences | F12: Facilitating and empowering learners' green competence | G12: Monitor and assess the green skills in learner's performance and progress, in order to provide targeted and timely feedback to them | H12: 25 | I12: 3 | J12: 6
A13: 5 | B13: Balancing environmental impacts in WBL mobilities | C13: It integrates knowledge on environmental assessment processes with attitudes oriented towards sustainability and reducing the environmental impact of work activities. | D13: - Environmental auditing process - Strategies for balancing economic, social and environmental factors (e.g.: digitalization). | E13: - Conduct environmental audits and assessments to minimise the detrimental impact of (international travel and work organisation on the environment) | F13: Seek continuous improvement for future WBL and mobility learning experiences from experts and pedagogical peers in environmental sustainability and carbon reduction | G13: Assess and minimise the environmental impact of WBL and mobility activities | H13: 15 | I13: 2 | J13: 4,5
H15: =SUM(H9:H14) -> 100 | I15: =SUM(I9:I14) -> 12 | J15: 25

Sheet MODULE_TRAINING PLAN
A1: A) | B1: MODULE TITLE | C1: GREEN COMPETENCY IN WBL ORGANIZATION AND MANAGEMENT
A3: B) | B3: MICROCREDENTIAL TO CERTIFY | C3: ='GREEN FRAMEWORK'!C3 -> To perform the role of Transnational WBL Organiser in VET ensuring environmental sustainability in various industrial contexts and undertaking actions to minimize harmful impacts of WBL mobilities on environment
A5: C) | B5: EQF LEVEL | C5: ='GREEN FRAMEWORK'!C4 -> 6
A7: D) | B7: LEARNING OUTCOMES | C7: At the end of the sessions/module the participant will be able to:
C8: ='GREEN FRAMEWORK'!C5 -> Organize mobility experiences with respect to sustainable practises in various professional contexts and minimizing environmental impact of WBL mobilities
A10: E) | B10: Duration | C10: 12 hrs
A12: F) | B12: Workload | C12: 25 hrs
A14: G) | B14: Assessment | C14: test-based and case study-based assessment
A16: H) | B16: Threshold level | C16: In a case study five point rating scale, the threshold level requested is level 3
C17: In a questionnaire the threshold level is 60% of correct answers
A20: I) | B20: Approach (form of participation in learning activity) | C20: blended learning (online synchronous and asynchronous learning)

Sheet UNIT 1
B1: UNIT 1
A2: 1 | B2: learning area/title | C2: ='GREEN FRAMEWORK'!B9 -> The reference context
A4: 2 | B4: competence unit description | C4: ='GREEN FRAMEWORK'!C9 -> It combines knowledge on the key concepts of sustainability and the ability to apply these concepts in the working and training context, also through a terminological glossary
A6: 3 | B6: knowledge | C6: ='GREEN FRAMEWORK'!D9 -> - International environmental regulations and standards - Basic concepts and terminology related to sustainability, including the Sustainable Development Goals (SDGs), the Circular Economy, and international and European environmental regulations
A8: 4 | B8: skills | C8: ='GREEN FRAMEWORK'!E9 -> - Apply references and examples from GreenComp when conducting own occupational role with reference to WBL/Mobility planning and organisation to identify a minimum level of access to relevant practical learning concerning environmental sustainability, carbon reduction and sustainable futures
A10: 5 | B10: attitudes | C10: ='GREEN FRAMEWORK'!F9 -> ‘Lead by example’ with regards to environmentally sustainable working practices in one's own role
A12: 6 | B12: learning outcomes | C12: ='GREEN FRAMEWORK'!G9 -> Identify and use the green reference frameworks Relate to green reference framework different proficiency levels for learners and workplaces
A14: 7 | B14: duration (in hours) | C14: ='GREEN FRAMEWORK'!I9 -> 1
A16: 8 | B16: notional workload (in hours) | C16: 2,5
A18: 9 | B18: unit leader | C18: CIOFS FP ETS
A20: 10 | B20: unit template | C20: LINK

Sheet UNIT 2
B1: UNIT 2
A2: 1 | B2: learning area/title | C2: ='GREEN FRAMEWORK'!B10 -> Planning WBL experiences
A4: 2 | B4: competence unit description | C4: ='GREEN FRAMEWORK'!C10 -> It includes the knowledge and practical skills needed to plan WBL experiences incorporating sustainable practices applied in various industrial sectors
A6: 3 | B6: knowledge | C6: ='GREEN FRAMEWORK'!D10 -> Green Project-based Learning (PBL) opportunities available in workplaces (according to industry and sector) in sustainability challenges, such as reducing carbon footprints or improving waste management Case studies and examples from previous WBL and mobility placements as well as from wider best practice
A8: 4 | B8: skills | C8: ='GREEN FRAMEWORK'!E10 -> Support apprentices, trainees and other learners to define and specify SMART Green learning goals to be pursued during mobility / WBL experiences
A10: 5 | B10: attitudes | C10: ='GREEN FRAMEWORK'!F10 -> Positively advocate the need to fully embed Green mindsets and dimensions in the planning and implementation of WBL and mobility
A12: 6 | B12: learning outcomes | C12: ='GREEN FRAMEWORK'!G10 -> Organize and track internship experiences with respect to sustainable practises in various industrial sector
A14: 7 | B14: duration (in hours) | C14: ='GREEN FRAMEWORK'!I10 -> 3
A16: 8 | B16: notional workload (in hours) | C16: 6
A18: 9 | B18: unit leader | C18: LITHUANIA
A20: 10 | B20: unit template | C20: LINK

Sheet UNIT 3
B1: UNIT 3
A2: 1 | B2: learning area/title | C2: ='GREEN FRAMEWORK'!B11 -> Implementing WBL experiences
A4: 2 | B4: competence unit description | C4: ='GREEN FRAMEWORK'!C11 -> It includes the knowledge and practical skills to enhance sustainable practises in different industrial sectors and aligning WBL experiences with these practices.
A6: 3 | B6: knowledge | C6: ='GREEN FRAMEWORK'!D11 -> - Different professions, professional activities and the relevance of Green competences at the workplace.
A8: 4 | B8: skills | C8: ='GREEN FRAMEWORK'!E11 -> - Identify sustainable practical activities in various sectors and to raise awareness among employers of the importance of sustainability in the company.
A10: 5 | B10: attitudes | C10: ='GREEN FRAMEWORK'!F11 -> - Positive attitudes towards the adoption of sustainable practices. - Ensure that provision is made with companies/at the workplace for aligned Green learning experiences when hosting WBL placements
A12: 6 | B12: learning outcomes | C12: ='GREEN FRAMEWORK'!G11 -> Identify and promote sustainable activities in professional contexts, adapting to the needs of each sector.
A14: 7 | B14: duration (in hours) | C14: ='GREEN FRAMEWORK'!I11 -> 3
A16: 8 | B16: notional workload (in hours) | C16: 6
A18: 9 | B18: unit leader | C18: IRELAND
A20: 10 | B20: unit template | C20: LINK

Sheet UNIT 4
B1: UNIT 4
A2: 1 | B2: learning area/title | C2: ='GREEN FRAMEWORK'!B12 -> Monitoring and assessment of WBL experiences
A4: 2 | B4: competence unit description | C4: ='GREEN FRAMEWORK'!C12 -> It integrates knowledge and skills on environmental assessment processes with attitudes oriented towards sustainability and reducing the environmental impact of work activities
A6: 3 | B6: knowledge | C6: ='GREEN FRAMEWORK'!D12 -> Appropriate methods and techniques to establish baselines for learners and evaluate progress and distance travelled in relation to Green competencies accrued during WBL and mobility experiences
A8: 4 | B8: skills | C8: ='GREEN FRAMEWORK'!E12 -> - Evaluate with all concerned parties (learners, companies, VET colleagues) Green learning outcomes from WBL experiences and seek continuous improvement for future WBL and mobility learning experiences
A10: 5 | B10: attitudes | C10: ='GREEN FRAMEWORK'!E12 -> - Evaluate with all concerned parties (learners, companies, VET colleagues) Green learning outcomes from WBL experiences and seek continuous improvement for future WBL and mobility learning experiences
A12: 6 | B12: learning outcomes | C12: ='GREEN FRAMEWORK'!G12 -> Monitor and assess the green skills in learner's performance and progress, in order to provide targeted and timely feedback to them
A14: 7 | B14: duration (in hours) | C14: ='GREEN FRAMEWORK'!I12 -> 3
A16: 8 | B16: notional workload (in hours) | C16: 6
A18: 9 | B18: unit leader | C18: GREECE
A20: 10 | B20: unit template | C20: LINK

Sheet UNIT 5
B1: UNIT 5
A2: 1 | B2: learning area/title | C2: ='GREEN FRAMEWORK'!B13 -> Balancing environmental impacts in WBL mobilities
A4: 2 | B4: competence unit description | C4: ='GREEN FRAMEWORK'!C13 -> It integrates knowledge on environmental assessment processes with attitudes oriented towards sustainability and reducing the environmental impact of work activities.
A6: 3 | B6: knowledge | C6: ='GREEN FRAMEWORK'!D13 -> - Environmental auditing process - Strategies for balancing economic, social and environmental factors (e.g.: digitalization).
A8: 4 | B8: skills | C8: ='GREEN FRAMEWORK'!E13 -> - Conduct environmental audits and assessments to minimise the detrimental impact of (international travel and work organisation on the environment)
A10: 5 | B10: attitudes | C10: ='GREEN FRAMEWORK'!F13 -> Seek continuous improvement for future WBL and mobility learning experiences from experts and pedagogical peers in environmental sustainability and carbon reduction
A12: 6 | B12: learning outcomes | C12: ='GREEN FRAMEWORK'!G13 -> Assess and minimise the environmental impact of WBL and mobility activities
A14: 7 | B14: duration (in hours) | C14: ='GREEN FRAMEWORK'!I13 -> 2
A16: 8 | B16: notional workload (in hours) | C16: 4,5
A18: 9 | B18: unit leader | C18: SPAIN
A20: 10 | B20: unit template | C20: LINK

Sheet MICROCREDENTIAL
A2: 1 | B2: Learner | C2: ROSSI MARIO
A3: 2 | B3: Title | C3: ='MODULE_TRAINING PLAN'!C1 -> GREEN COMPETENCY IN WBL ORGANIZATION AND MANAGEMENT
A4: 3 | B4: Country/region of the issuer: | C4: ITALY
A5: 4 | B5: Awarding body: | C5: CIOFS FP ETS
A6: 5 | B6: Date (of issuing) | C6: 45688
A7: 6 | B7: Competency | C7: ='GREEN FRAMEWORK'!C3 -> To perform the role of Transnational WBL Organiser in VET ensuring environmental sustainability in various industrial contexts and undertaking actions to minimize harmful impacts of WBL mobilities on environment
A8: 7 | B8: Level EQF | C8: ='GREEN FRAMEWORK'!C4 -> 6
A9: 8 | B9: Learning Area | C9: ='GREEN FRAMEWORK'!B9 -> The reference context | D9: ='GREEN FRAMEWORK'!B10 -> Planning WBL experiences | E9: ='GREEN FRAMEWORK'!B11 -> Implementing WBL experiences | F9: ='GREEN FRAMEWORK'!B12 -> Monitoring and assessment of WBL experiences | G9: ='GREEN FRAMEWORK'!B13 -> Balancing environmental impacts in WBL mobilities
A10: 8 | B10: Knowledge | C10: ='GREEN FRAMEWORK'!D9 -> - International environmental regulations and standards - Basic concepts and terminology related to sustainability, including the Sustainable Development Goals (SDGs), the Circular Economy, and international and European environmental regulations | D10: ='GREEN FRAMEWORK'!D10 -> Green Project-based Learning (PBL) opportunities available in workplaces (according to industry and sector) in sustainability challenges, such as reducing carbon footprints or improving waste management Case studies and examples from previous WBL and mobility placements as well as from wider best practice | E10: ='GREEN FRAMEWORK'!D11 -> - Different professions, professional activities and the relevance of Green competences at the workplace. | F10: ='GREEN FRAMEWORK'!D12 -> Appropriate methods and techniques to establish baselines for learners and evaluate progress and distance travelled in relation to Green competencies accrued during WBL and mobility experiences | G10: ='GREEN FRAMEWORK'!D13 -> - Environmental auditing process - Strategies for balancing economic, social and environmental factors (e.g.: digitalization).
A11: 9 | B11: Skills | C11: ='GREEN FRAMEWORK'!E9 -> - Apply references and examples from GreenComp when conducting own occupational role with reference to WBL/Mobility planning and organisation to identify a minimum level of access to relevant practical learning concerning environmental sustainability, carbon reduction and sustainable futures | D11: ='GREEN FRAMEWORK'!E10 -> Support apprentices, trainees and other learners to define and specify SMART Green learning goals to be pursued during mobility / WBL experiences | E11: ='GREEN FRAMEWORK'!E11 -> - Identify sustainable practical activities in various sectors and to raise awareness among employers of the importance of sustainability in the company. | F11: ='GREEN FRAMEWORK'!E12 -> - Evaluate with all concerned parties (learners, companies, VET colleagues) Green learning outcomes from WBL experiences and seek continuous improvement for future WBL and mobility learning experiences | G11: ='GREEN FRAMEWORK'!E13 -> - Conduct environmental audits and assessments to minimise the detrimental impact of (international travel and work organisation on the environment)
A12: 10 | B12: Attitudes | C12: ='GREEN FRAMEWORK'!F9 -> ‘Lead by example’ with regards to environmentally sustainable working practices in one's own role | D12: ='GREEN FRAMEWORK'!F10 -> Positively advocate the need to fully embed Green mindsets and dimensions in the planning and implementation of WBL and mobility | E12: ='GREEN FRAMEWORK'!F11 -> - Positive attitudes towards the adoption of sustainable practices. - Ensure that provision is made with companies/at the workplace for aligned Green learning experiences when hosting WBL placements | F12: ='GREEN FRAMEWORK'!F12 -> Facilitating and empowering learners' green competence | G12: ='GREEN FRAMEWORK'!F13 -> Seek continuous improvement for future WBL and mobility learning experiences from experts and pedagogical peers in environmental sustainability and carbon reduction
A13: 11 | B13: Learning outcomes | C13: ='GREEN FRAMEWORK'!C5 -> Organize mobility experiences with respect to sustainable practises in various professional contexts and minimizing environmental impact of WBL mobilities
A14: 12 | B14: Duration: | C14: ='GREEN FRAMEWORK'!C6 -> 12 hours
A15: 13 | B15: Notional workload to achieve the learning outcomes: | C15: ='GREEN FRAMEWORK'!C7 -> 25 hours | D15: ECTS credits: 1
A16: 14 | B16: Type of assessment | C16: ='MODULE_TRAINING PLAN'!C14 -> test-based and case study-based assessment
A17: 15 | B17: Evaluation criteria | C17: passing positevely the module final test
A18: 16 | B18: Form of participation in learning activity | C18: ='MODULE_TRAINING PLAN'!C20 -> blended learning (online synchronous and asynchronous learning)
A19: 17 | B19: Type of quality assurance
C21: EC Recommendation
C22: digital competence badge
