Workbook

Sheet DIGITAL FRAMEWORK
A1: MICROCREDENTIAL DIGITAL COMPETENCY FRAMEWORK
A3: MICROCREDENTIAL TO CERTIFY: | C3: To perform the role of Transnational WBL Organiser in VET in a variety of digital contexts and for a range of purposes, using digital tools to enhance diverse aspects of the professional engagement with attention to continuous upskilling and innovation
A4: EQF LEVEL: | C4: 6
A5: Learning outcomes | C5: Select and adapt the most appropriate digital technologies and tools to ensure interaction, organization and management during WBL experiences with reference to different target groups
A6: Duration (in hrs) | C6: 12 hours
A7: Notional workload (in hrs) | C7: 25 hours
A8: N. | B8: LEARNING AREA | C8: COMPETENCE UNIT DESCRIPTION | D8: KNOWLEDGE | E8: SKILLS | F8: ATTITUDES | G8: LEARNING OUTCOMES | H8: WEIGHT % | I8: DURATION in hours | J8: WORKLOAD in hours
A9: 1 | B9: The reference context | C9: It refers to knowledge of the regulatory context, at national and European level, for digital competency | D9: - The principles and contents in the EU digital competence Framework for Citizens and European Framework for the Digital Competence of Educators DigCompEdu - The expectations and capabilities aligned to Integrator (B1) according to the DigCompEdu proficiency levels | E9: Understanding digital skills level of learners and apprentices Identify the level of digitalization in the work places | F9: Facilitating learners’ digital competence acquisition and support learners’ self-regulated learning | G9: Identify and analyse European and National digital competence frameworks that impact WBL and International mobilities Apply and map digital competence frameworks to determine learners and apprentices digital proficiency and to assess the level of digitalisation in the workplace. | H9: 10 | I9: 1 | J9: 2,5
A10: 2 | B10: Planning WBL experiences | C10: It includes the knowledge and practical skills needed to perform the role of WBL/mobility organizer, with the use of digital tools such as databases, monitoring platforms and tracking tools. | D10: - Good practices in relation to both in person and virtual WBL experiences (i.e. virtual platforms, AR/VR options) - Digital Project-based Learning (PBL) opportunities available in workplaces (according to industry and sector) | E10: - Utilise digital tools and platforms to conduct core job functions relating to organisational, administrative and promotional duties - Ensure that provision is made with companies/at the workplace for aligned digital learning experiences places when hosting WBL placements | F10: Take into careful account the practical digital opportunities and limitations of employers, apprentices in making WBL and mobility arrangements to shape expectations appropriately | G10: Select, apply and use appropriate digital tools to support the organisational, admnistrative and promotional functions of a WBL/Mobility organiser. Monitor and track using relevant digtial tools and platforms learner's and apprentices' progress throughout their WBL/Mobility journey. | H10: 25 | I10: 3 | J10: 6
A11: 3 | B11: Implementing WBL experiences | C11: It includes the knowledge and practical skills to enhance the interaction, collaboration and sharing among the different actors of the process making use of appropriate digital tools. | D11: - Digital tools, services and platforms for interaction, collaboration and sharing data, information and resources - Digital content management | E11: - Use digital tools and platforms to provide guidance and communications to support apprentices and trainees online - Troubleshoot and resolve technical issues remotely | F11: - Ensure that good practice as well as mandatory requirements in online well-being, digital safety and privacy are adopted and are shared as appropriate with all stakeholders including and trainees and (where appropriate) parents and guardians - Positively seek to troubleshoot and resolve technical issues remotely | G11: Select and manage appropriate and relevant digital tools for communication and collaboration with different target groups. Understand the mandatory requirements and best practice in digital safety and privacy. Apply this knowledge effectively when implementing WBL/Mobility experiences. | H11: 25 | I11: 3 | J11: 6
A12: 4 | B12: Monitoring and assessment of WBL experiences | C12: It includes the knowledge and skills needed for formative and summative assessment of learners' progress during the WBL experience | D12: - Methods and techniques to establish digital baselines for learners and evaluate progress and distance travelled in relation to digital competencies accrued during WBL and mobility experiences - The heterogeneity and differing levels of digital competency (ref: DigComp) and learning needs of apprentices and trainees | E12: - Encourage apprentices, trainees and other learners to specify SMART digital learning goals and design individual action plans to be pursued during mobility / WBL experiences - Evaluate with all concerned parties (learners, companies, VET colleagues) digital learning outcomes of WBL experiences | F12: Facilitating and empowering learners' digital competence | G12: Critically evaluate learner's and apprentice's WBL/Mobility experience by incorporating feedback from all stakeholders to assess the development of digital skills. | H12: 25 | I12: 3 | J12: 6
A13: 5 | B13: Upskilling and innovation | C13: It includes knowledge management and networking to stay updated on technological developments in the digital sector and understand the impact of technologies such as AR, VR and AI on WBL. | D13: - Digital CPD - The impact of technologies such as AR, VR and AI on WBL. | E13: - Use feedback form learners to refine and improve the WBL process - Use digital sources and resources for continuous professional development. | F13: Seek continuous improvement for future WBL and mobility learning experiences from digital experts and pedagogical peers | G13: Identify and evaluate digital sources and resournces for CPD to enhance further professional development and digital competence. | H13: 15 | I13: 2 | J13: 4,5
H15: =SUM(H9:H14) -> 100 | I15: =SUM(I9:I14) -> 12 | J15: 25

Sheet MODULE_TRAINING PLAN
A1: A) | B1: MODULE TITLE | C1: DIGITAL COMPETENCY IN WBL ORGANIZATION AND MANAGEMENT
A3: B) | B3: MICROCREDENTIAL TO CERTIFY | C3: ='DIGITAL FRAMEWORK'!C3 -> To perform the role of Transnational WBL Organiser in VET in a variety of digital contexts and for a range of purposes, using digital tools to enhance diverse aspects of the professional engagement with attention to continuous upskilling and innovation
A5: C) | B5: EQF LEVEL | C5: ='DIGITAL FRAMEWORK'!C4 -> 6
A7: D) | B7: LEARNING OUTCOMES | C7: At the end of the sessions/module the participant will be able to:
C8: ='DIGITAL FRAMEWORK'!C5 -> Select and adapt the most appropriate digital technologies and tools to ensure interaction, organization and management during WBL experiences with reference to different target groups
A10: E) | B10: Duration | C10: 12 hrs
A12: F) | B12: Workload | C12: 25 hrs
A14: G) | B14: Assessment | C14: test-based and case study-based assessment
A16: H) | B16: Threshold level | C16: In a case study five point rating scale, the threshold level requested is level 3
C17: In a questionnaire the threshold level is 60% of correct answers
A20: I) | B20: Approach (form of participation in learning activity) | C20: blended learning (online synchronous and asynchronous learning)

Sheet UNIT 1
B2: UNIT 1
A3: 1 | B3: learning area/title | C3: ='DIGITAL FRAMEWORK'!B9 -> The reference context
A5: 2 | B5: competence unit description | C5: ='DIGITAL FRAMEWORK'!C9 -> It refers to knowledge of the regulatory context, at national and European level, for digital competency
A7: 3 | B7: knowledge | C7: ='DIGITAL FRAMEWORK'!D9 -> - The principles and contents in the EU digital competence Framework for Citizens and European Framework for the Digital Competence of Educators DigCompEdu - The expectations and capabilities aligned to Integrator (B1) according to the DigCompEdu proficiency levels
A9: 4 | B9: skills | C9: ='DIGITAL FRAMEWORK'!E9 -> Understanding digital skills level of learners and apprentices Identify the level of digitalization in the work places
A11: 5 | B11: attitudes | C11: ='DIGITAL FRAMEWORK'!F9 -> Facilitating learners’ digital competence acquisition and support learners’ self-regulated learning
A13: 6 | B13: learning outcomes | C13: ='DIGITAL FRAMEWORK'!G9 -> Identify and analyse European and National digital competence frameworks that impact WBL and International mobilities Apply and map digital competence frameworks to determine learners and apprentices digital proficiency and to assess the level of digitalisation in the workplace.
A15: 7 | B15: duration (in hours) | C15: ='DIGITAL FRAMEWORK'!I9 -> 1
A17: 8 | B17: notional workload (in hours) | C17: 2,5
A19: 9 | B19: unit leader | C19: CIOFS FP ETS
A21: 10 | B21: unit template | C21: Link

Sheet UNIT 2
B2: UNIT 2
A3: 1 | B3: learning area/title | C3: ='DIGITAL FRAMEWORK'!B10 -> Planning WBL experiences
A5: 2 | B5: competence unit description | C5: ='DIGITAL FRAMEWORK'!C10 -> It includes the knowledge and practical skills needed to perform the role of WBL/mobility organizer, with the use of digital tools such as databases, monitoring platforms and tracking tools.
A7: 3 | B7: knowledge | C7: ='DIGITAL FRAMEWORK'!D10 -> - Good practices in relation to both in person and virtual WBL experiences (i.e. virtual platforms, AR/VR options) - Digital Project-based Learning (PBL) opportunities available in workplaces (according to industry and sector)
A9: 4 | B9: skills | C9: ='DIGITAL FRAMEWORK'!E10 -> - Utilise digital tools and platforms to conduct core job functions relating to organisational, administrative and promotional duties - Ensure that provision is made with companies/at the workplace for aligned digital learning experiences places when hosting WBL placements
A11: 5 | B11: attitudes | C11: ='DIGITAL FRAMEWORK'!F10 -> Take into careful account the practical digital opportunities and limitations of employers, apprentices in making WBL and mobility arrangements to shape expectations appropriately
A13: 6 | B13: learning outcomes | C13: ='DIGITAL FRAMEWORK'!G10 -> Select, apply and use appropriate digital tools to support the organisational, admnistrative and promotional functions of a WBL/Mobility organiser. Monitor and track using relevant digtial tools and platforms learner's and apprentices' progress throughout their WBL/Mobility journey.
A15: 7 | B15: duration (in hours) | C15: ='DIGITAL FRAMEWORK'!I10 -> 3
A17: 8 | B17: notional workload (in hours) | C17: 6
A19: 9 | B19: unit leader | C19: LITHUANIA
A21: 10 | B21: unit template | C21: Link

Sheet UNIT 3
B1: UNIT 3
A2: 1 | B2: learning area/title | C2: ='DIGITAL FRAMEWORK'!B11 -> Implementing WBL experiences
A4: 2 | B4: competence unit description | C4: ='DIGITAL FRAMEWORK'!C11 -> It includes the knowledge and practical skills to enhance the interaction, collaboration and sharing among the different actors of the process making use of appropriate digital tools.
A6: 3 | B6: knowledge | C6: ='DIGITAL FRAMEWORK'!D11 -> - Digital tools, services and platforms for interaction, collaboration and sharing data, information and resources - Digital content management
A8: 4 | B8: skills | C8: ='DIGITAL FRAMEWORK'!E11 -> - Use digital tools and platforms to provide guidance and communications to support apprentices and trainees online - Troubleshoot and resolve technical issues remotely
A10: 5 | B10: attitudes | C10: ='DIGITAL FRAMEWORK'!F11 -> - Ensure that good practice as well as mandatory requirements in online well-being, digital safety and privacy are adopted and are shared as appropriate with all stakeholders including and trainees and (where appropriate) parents and guardians - Positively seek to troubleshoot and resolve technical issues remotely
A12: 6 | B12: learning outcomes | C12: ='DIGITAL FRAMEWORK'!G11 -> Select and manage appropriate and relevant digital tools for communication and collaboration with different target groups. Understand the mandatory requirements and best practice in digital safety and privacy. Apply this knowledge effectively when implementing WBL/Mobility experiences.
A14: 7 | B14: duration (in hours) | C14: ='DIGITAL FRAMEWORK'!I11 -> 3
A16: 8 | B16: notional workload (in hours) | C16: 6
A18: 9 | B18: unit leader | C18: IRELAND
A20: 10 | B20: unit template | C20: Link

Sheet UNIT 4
B1: UNIT 4
A2: 1 | B2: learning area/title | C2: ='DIGITAL FRAMEWORK'!B12 -> Monitoring and assessment of WBL experiences
A4: 2 | B4: competence unit description | C4: ='DIGITAL FRAMEWORK'!C12 -> It includes the knowledge and skills needed for formative and summative assessment of learners' progress during the WBL experience
A6: 3 | B6: knowledge | C6: ='DIGITAL FRAMEWORK'!D12 -> - Methods and techniques to establish digital baselines for learners and evaluate progress and distance travelled in relation to digital competencies accrued during WBL and mobility experiences - The heterogeneity and differing levels of digital competency (ref: DigComp) and learning needs of apprentices and trainees
A8: 4 | B8: skills | C8: ='DIGITAL FRAMEWORK'!E12 -> - Encourage apprentices, trainees and other learners to specify SMART digital learning goals and design individual action plans to be pursued during mobility / WBL experiences - Evaluate with all concerned parties (learners, companies, VET colleagues) digital learning outcomes of WBL experiences
A10: 5 | B10: attitudes | C10: ='DIGITAL FRAMEWORK'!E12 -> - Encourage apprentices, trainees and other learners to specify SMART digital learning goals and design individual action plans to be pursued during mobility / WBL experiences - Evaluate with all concerned parties (learners, companies, VET colleagues) digital learning outcomes of WBL experiences
A12: 6 | B12: learning outcomes | C12: ='DIGITAL FRAMEWORK'!G12 -> Critically evaluate learner's and apprentice's WBL/Mobility experience by incorporating feedback from all stakeholders to assess the development of digital skills.
A14: 7 | B14: duration (in hours) | C14: ='DIGITAL FRAMEWORK'!I12 -> 3
A16: 8 | B16: notional workload (in hours) | C16: 6
A18: 9 | B18: unit leader | C18: GREECE
A20: 10 | B20: unit template | C20: Link

Sheet UNIT 5
B1: UNIT 5
A2: 1 | B2: learning area/title | C2: ='DIGITAL FRAMEWORK'!B13 -> Upskilling and innovation
A4: 2 | B4: competence unit description | C4: ='DIGITAL FRAMEWORK'!C13 -> It includes knowledge management and networking to stay updated on technological developments in the digital sector and understand the impact of technologies such as AR, VR and AI on WBL.
A6: 3 | B6: knowledge | C6: ='DIGITAL FRAMEWORK'!D13 -> - Digital CPD - The impact of technologies such as AR, VR and AI on WBL.
A8: 4 | B8: skills | C8: ='DIGITAL FRAMEWORK'!E13 -> - Use feedback form learners to refine and improve the WBL process - Use digital sources and resources for continuous professional development.
A10: 5 | B10: attitudes | C10: ='DIGITAL FRAMEWORK'!F13 -> Seek continuous improvement for future WBL and mobility learning experiences from digital experts and pedagogical peers
A12: 6 | B12: learning outcomes | C12: ='DIGITAL FRAMEWORK'!G13 -> Identify and evaluate digital sources and resournces for CPD to enhance further professional development and digital competence.
A14: 7 | B14: duration (in hours) | C14: ='DIGITAL FRAMEWORK'!I13 -> 2
A16: 8 | B16: notional workload (in hours) | C16: 4,5
A18: 9 | B18: unit leader | C18: SPAIN
A20: 10 | B20: unit template | C20: Link

Sheet MICROCREDENTIAL
A2: 1 | B2: Learner | C2: ROSSI MARIO
A3: 2 | B3: Title | C3: ='MODULE_TRAINING PLAN'!C1 -> DIGITAL COMPETENCY IN WBL ORGANIZATION AND MANAGEMENT
A4: 3 | B4: Country/region of the issuer: | C4: ITALY
A5: 4 | B5: Awarding body: | C5: CIOFS FP ETS
A6: 5 | B6: Date (of issuing) | C6: 45688
A7: 6 | B7: Competency | C7: ='DIGITAL FRAMEWORK'!C3 -> To perform the role of Transnational WBL Organiser in VET in a variety of digital contexts and for a range of purposes, using digital tools to enhance diverse aspects of the professional engagement with attention to continuous upskilling and innovation
A8: 7 | B8: Level EQF | C8: ='DIGITAL FRAMEWORK'!C4 -> 6
A9: 8 | B9: Learning Area | C9: ='DIGITAL FRAMEWORK'!B9 -> The reference context | D9: ='DIGITAL FRAMEWORK'!B10 -> Planning WBL experiences | E9: ='DIGITAL FRAMEWORK'!B11 -> Implementing WBL experiences | F9: ='DIGITAL FRAMEWORK'!B12 -> Monitoring and assessment of WBL experiences | G9: ='DIGITAL FRAMEWORK'!B13 -> Upskilling and innovation
A10: 8 | B10: Knowledge | C10: ='DIGITAL FRAMEWORK'!D9 -> - The principles and contents in the EU digital competence Framework for Citizens and European Framework for the Digital Competence of Educators DigCompEdu - The expectations and capabilities aligned to Integrator (B1) according to the DigCompEdu proficiency levels | D10: ='DIGITAL FRAMEWORK'!D10 -> - Good practices in relation to both in person and virtual WBL experiences (i.e. virtual platforms, AR/VR options) - Digital Project-based Learning (PBL) opportunities available in workplaces (according to industry and sector) | E10: ='DIGITAL FRAMEWORK'!D11 -> - Digital tools, services and platforms for interaction, collaboration and sharing data, information and resources - Digital content management | F10: ='DIGITAL FRAMEWORK'!D12 -> - Methods and techniques to establish digital baselines for learners and evaluate progress and distance travelled in relation to digital competencies accrued during WBL and mobility experiences - The heterogeneity and differing levels of digital competency (ref: DigComp) and learning needs of apprentices and trainees | G10: ='DIGITAL FRAMEWORK'!D13 -> - Digital CPD - The impact of technologies such as AR, VR and AI on WBL.
A11: 9 | B11: Skills | C11: ='DIGITAL FRAMEWORK'!E9 -> Understanding digital skills level of learners and apprentices Identify the level of digitalization in the work places | D11: ='DIGITAL FRAMEWORK'!E10 -> - Utilise digital tools and platforms to conduct core job functions relating to organisational, administrative and promotional duties - Ensure that provision is made with companies/at the workplace for aligned digital learning experiences places when hosting WBL placements | E11: ='DIGITAL FRAMEWORK'!E11 -> - Use digital tools and platforms to provide guidance and communications to support apprentices and trainees online - Troubleshoot and resolve technical issues remotely | F11: ='DIGITAL FRAMEWORK'!E12 -> - Encourage apprentices, trainees and other learners to specify SMART digital learning goals and design individual action plans to be pursued during mobility / WBL experiences - Evaluate with all concerned parties (learners, companies, VET colleagues) digital learning outcomes of WBL experiences | G11: ='DIGITAL FRAMEWORK'!E13 -> - Use feedback form learners to refine and improve the WBL process - Use digital sources and resources for continuous professional development.
A12: 10 | B12: Attitudes | C12: ='DIGITAL FRAMEWORK'!F9 -> Facilitating learners’ digital competence acquisition and support learners’ self-regulated learning | D12: ='DIGITAL FRAMEWORK'!F10 -> Take into careful account the practical digital opportunities and limitations of employers, apprentices in making WBL and mobility arrangements to shape expectations appropriately | E12: ='DIGITAL FRAMEWORK'!F11 -> - Ensure that good practice as well as mandatory requirements in online well-being, digital safety and privacy are adopted and are shared as appropriate with all stakeholders including and trainees and (where appropriate) parents and guardians - Positively seek to troubleshoot and resolve technical issues remotely | F12: ='DIGITAL FRAMEWORK'!F12 -> Facilitating and empowering learners' digital competence | G12: ='DIGITAL FRAMEWORK'!G12 -> Critically evaluate learner's and apprentice's WBL/Mobility experience by incorporating feedback from all stakeholders to assess the development of digital skills.
A13: 11 | B13: Learning outcomes | C13: ='DIGITAL FRAMEWORK'!C5 -> Select and adapt the most appropriate digital technologies and tools to ensure interaction, organization and management during WBL experiences with reference to different target groups
A14: 12 | B14: Duration: | C14: ='DIGITAL FRAMEWORK'!C6 -> 12 hours
A15: 13 | B15: Notional workload to achieve the learning outcomes: | C15: ='DIGITAL FRAMEWORK'!C7 -> 25 hours | D15: ECTS credits: 1
A16: 14 | B16: Type of assessment | C16: ='MODULE_TRAINING PLAN'!C14 -> test-based and case study-based assessment
A17: 15 | B17: Evaluation criteria | C17: passing positevely the module final test
A18: 16 | B18: Form of participation in learning activity | C18: ='MODULE_TRAINING PLAN'!C20 -> blended learning (online synchronous and asynchronous learning)
A19: 17 | B19: Type of quality assurance
C21: EC Recommendation
C22: digital competence badge
